BEGIN:VCALENDAR
VERSION:2.0
PRODID:icalendar-ruby
CALSCALE:GREGORIAN
METHOD:PUBLISH
BEGIN:VEVENT
DTSTAMP:20260420T004358Z
UID:93-839631@trinityunitednanaimo.ca
DTSTART:20261018T180000Z
DTEND:20261018T190000Z
CLASS:PUBLIC
CREATED:20260419T142313
DESCRIPTION:Trinity's weekly worship service is both in the sanctuary and o
 nline at 11:00 am on Sunday mornings.\nYou can find us at 6011 Doumont Roa
 d\, Nanaimo\, BC. \nAlternatively\, you can also join us online as all of
  our worship services are Livestreamed as well. \nYou can join our Livest
 ream here:\nhttps://www.trinityunitednanaimo.ca/live
LAST-MODIFIED:20260419T142313
LOCATION:6011 Doumont Road\, Nanaimo\, BC
SUMMARY:Sunday Worship Services
URL;VALUE=URI:https://www.trinityunitednanaimo.ca/events/sunday-worship-ser
 vices/2026-10-18
ATTACH;FILENAME=TUC-EasterLogo0.jpg;FMTTYPE=image/jpeg:https://dq5pwpg1q8ru
 0.cloudfront.net/2026/03/12/17/08/23/b16a92ec-be5d-4f9b-86a2-b155d85dc35b/
 TUC-EasterLogo0.jpg
END:VEVENT
END:VCALENDAR
